BEGIN:VCALENDAR
VERSION:2.0
PRODID:-//lifeteensmash.com//eCatholic//EN
X-WR-TIMEZONE:LocalTZ
BEGIN:VTIMEZONE
TZID:LocalTZ
X-LIC-LOCATION:LocalTZ
BEGIN:DAYLIGHT
TZOFFSETFROM:-0500
TZOFFSETTO:-0400
TZNAME:LocalTZ
DTSTART:19700308T020000
RRULE:FREQ=YEARLY;BYMONTH=3;BYDAY=2SU
END:DAYLIGHT
BEGIN:STANDARD
TZOFFSETFROM:-0400
TZOFFSETTO:-0500
TZNAME:LocalTZ
DTSTART:19701101T020000
RRULE:FREQ=YEARLY;BYMONTH=11;BYDAY=1SU
END:STANDARD
END:VTIMEZONE
BEGIN:VEVENT
UID:11506@lifeteensmash.com
DTSTAMP:20260422T073405Z
DTSTART:20260426T180000
DTEND:20260426T191500
RRULE:FREQ=WEEKLY;BYDAY=SU
EXDATE:20150201T180000,20160207T180000,20161225T180000,20170205T180000,201
 71224T180000,20171231T180000,20180204T180000,20181111T180000,20190203T1800
 00,20191020T180000,20200202T180000,20200315T180000,20200322T180000,2020032
 9T180000,20200405T180000,20200412T180000,20200419T180000,20200426T180000,2
 0200503T180000,20200510T180000,20200517T180000,20200524T180000,20200531T18
 0000,20200607T180000,20200614T180000,20200621T180000,20200628T180000,20200
 705T180000,20200712T180000,20200719T180000,20200726T180000,20200802T180000
 ,20200816T180000,20200927T180000,20201004T180000,20201011T180000,20201018T
 180000,20201025T180000,20201101T180000,20201108T180000,20201115T180000,202
 01122T180000,20201129T180000,20201206T180000,20201213T180000,20201220T1800
 00,20201227T180000,20210103T180000,20210110T180000,20210117T180000,2021012
 4T180000,20210131T180000,20210207T180000,20210214T180000,20210221T180000,2
 0210228T180000,20210307T180000,20210314T180000,20210321T180000,20210328T18
 0000,20210404T180000,20210411T180000,20210418T180000,20210425T180000,20210
 502T180000,20210509T180000,20210516T180000,20210523T180000,20210530T180000
 ,20210606T180000,20210613T180000,20210620T180000,20210627T180000,20220213T
 180000,20220313T180000,20221225T180000,20230212T180000,20231224T180000,202
 40211T180000,20250209T180000,20260125T180000,20260208T180000
SUMMARY:Life Teen Mass
END:VEVENT
BEGIN:VEVENT
UID:11509@lifeteensmash.com
DTSTAMP:20260422T073405Z
DTSTART:20260427T180000
DTEND:20260427T201500
RRULE:FREQ=WEEKLY;BYDAY=MO
EXDATE:20140811T180000,20150126T180000,20150202T180000,20150209T180000,201
 60208T180000,20160815T180000,20161031T180000,20170814T180000,20171225T1800
 00,20180813T180000,20181224T180000,20181231T180000,20190812T180000,2020031
 6T180000,20200323T180000,20200330T180000,20200406T180000,20200413T180000,2
 0200420T180000,20200427T180000,20200504T180000,20200511T180000,20200518T18
 0000,20200525T180000,20200601T180000,20200608T180000,20200615T180000,20200
 622T180000,20200629T180000,20200706T180000,20200713T180000,20200720T180000
 ,20200727T180000,20200803T180000,20200810T180000,20200817T180000,20200824T
 180000,20200831T180000,20200907T180000,20200914T180000,20200921T180000,202
 00928T180000,20201005T180000,20201012T180000,20201019T180000,20201026T1800
 00,20201102T180000,20201109T180000,20201116T180000,20201123T180000,2020113
 0T180000,20201207T180000,20201214T180000,20201221T180000,20201228T180000,2
 0210104T180000,20210111T180000,20210118T180000,20210125T180000,20210201T18
 0000,20210208T180000,20210215T180000,20210222T180000,20210301T180000,20210
 308T180000,20210315T180000,20210322T180000,20210329T180000,20210405T180000
 ,20210412T180000,20210419T180000,20210426T180000,20210503T180000,20210510T
 180000,20210517T180000,20210524T180000,20210531T180000,20210607T180000,202
 10614T180000,20210621T180000,20210628T180000,20210705T180000,20210712T1800
 00,20210719T180000,20210726T180000,20210802T180000,20210809T180000,2021081
 6T180000,20210823T180000,20210830T180000,20220704T180000,20220815T180000,2
 0230821T180000,20231218T180000,20231225T180000,20240812T180000,20251208T18
 0000,20260223T180000
SUMMARY:Pizza and Prayer
END:VEVENT
BEGIN:VEVENT
UID:2890817@lifeteensmash.com
DTSTAMP:20260422T073405Z
DTSTART:20260430T150000
DTEND:20260430T170000
RRULE:FREQ=WEEKLY;UNTIL=20260612;BYDAY=TH
EXDATE:20251127T150000,20251218T150000,20251225T150000,20260101T150000,202
 60219T150000,20260402T150000,20260423T150000
SUMMARY:Homework Day
END:VEVENT
BEGIN:VEVENT
UID:2901729@lifeteensmash.com
DTSTAMP:20260422T073405Z
DTSTART:20260427T150000
DTEND:20260427T180000
RRULE:FREQ=WEEKLY;UNTIL=20260616;BYDAY=MO
EXDATE:20251013T150000,20251208T150000,20251229T150000,20260119T150000,202
 60126T150000,20260216T150000,20260223T150000,20260420T150000,20260525T1500
 00
SUMMARY:Homework Day
END:VEVENT
BEGIN:VEVENT
UID:2952093@lifeteensmash.com
DTSTAMP:20260422T073405Z
DTSTART;VALUE=DATE:20260516
DTEND;VALUE=DATE:20260518
SUMMARY:Spring Retreat
DESCRIPTION:Our 2026 Spring Retreat will be held on Saturday\, May 16 and 
 Sunday\, May 17. The retreat will begin at Our Lady of the Angels Parish C
 enter at 10 a.m. on Saturday and end following Life Teen Mass on Sunday. I
 t is truly one of our best events of the year! <b><a href="https://ourlady
 shanover.wufoo.com/forms/life-teen-smash-spring-retreat-2026" target="_bla
 nk">Click here to sign up before April 21 to receive the early registratio
 n discount!</a></b>
END:VEVENT
BEGIN:VEVENT
UID:3017583@lifeteensmash.com
DTSTAMP:20260422T073405Z
DTSTART;VALUE=DATE:20260711
DTEND;VALUE=DATE:20260719
SUMMARY:Catholic Heart Workcamp
DESCRIPTION:We are excited to heading to Catholic Heart Workcamp in Farmin
 gton Hills\, MI this coming summer! Join us from July 11 to 18 for a week 
 of service\, prayer\, and fun. <a href="https://lifeteensmash.com/document
 s/2026/2/CHWC%202026%20Additional%20Information.pdf?t=1770423630000" targe
 t="_blank "><strong>More information about our trip can be found by clicki
 ng here.</strong></a> For more information about Catholic Heart Workcamp\,
  visit their website: <a href="https://heartworkcamp.com/faq/" target="_bl
 ank "><strong>HeartWorkcamp.com.</strong></a> We have a very limited numbe
 r of spots\, so don't miss out! <a href="https://ourladyshanover.wufoo.com
 /forms/life-teen-smash-catholic-heart-workcamp-2026/" target="_blank "><st
 rong>Click here to register now!</strong></a>\n\n\n\nWe are excited to hea
 ding to Catholic Heart Workcamp in Farmington Hills\, MI this coming summe
 r! Join us from July 11 to 18 for a week of service\, prayer\, and fun. 
END:VEVENT
BEGIN:VEVENT
UID:3078842@lifeteensmash.com
DTSTAMP:20260422T073405Z
DTSTART:20260422T190000
DTEND:20260422T220000
SUMMARY:Game Night
END:VEVENT
BEGIN:VEVENT
UID:3078843@lifeteensmash.com
DTSTAMP:20260422T073405Z
DTSTART:20260424T190000
DTEND:20260424T220000
SUMMARY:Campfire
END:VEVENT
END:VCALENDAR
